BEGIN:VCALENDAR
VERSION:2.0
PRODID:-//Westernreiter - ECPv6.15.20//NONSGML v1.0//EN
CALSCALE:GREGORIAN
METHOD:PUBLISH
X-WR-CALNAME:Westernreiter
X-ORIGINAL-URL:https://ewu-bund.com
X-WR-CALDESC:Veranstaltungen für Westernreiter
REFRESH-INTERVAL;VALUE=DURATION:PT1H
X-Robots-Tag:noindex
X-PUBLISHED-TTL:PT1H
BEGIN:VTIMEZONE
TZID:Europe/Berlin
BEGIN:DAYLIGHT
TZOFFSETFROM:+0100
TZOFFSETTO:+0200
TZNAME:CEST
DTSTART:20250330T010000
END:DAYLIGHT
BEGIN:STANDARD
TZOFFSETFROM:+0200
TZOFFSETTO:+0100
TZNAME:CET
DTSTART:20251026T010000
END:STANDARD
BEGIN:DAYLIGHT
TZOFFSETFROM:+0100
TZOFFSETTO:+0200
TZNAME:CEST
DTSTART:20260329T010000
END:DAYLIGHT
BEGIN:STANDARD
TZOFFSETFROM:+0200
TZOFFSETTO:+0100
TZNAME:CET
DTSTART:20261025T010000
END:STANDARD
BEGIN:DAYLIGHT
TZOFFSETFROM:+0100
TZOFFSETTO:+0200
TZNAME:CEST
DTSTART:20270328T010000
END:DAYLIGHT
BEGIN:STANDARD
TZOFFSETFROM:+0200
TZOFFSETTO:+0100
TZNAME:CET
DTSTART:20271031T010000
END:STANDARD
END:VTIMEZONE
BEGIN:VEVENT
DTSTART;VALUE=DATE:20260316
DTEND;VALUE=DATE:20260524
DTSTAMP:20260420T001944
CREATED:20251121T094155Z
LAST-MODIFIED:20260126T141742Z
UID:10002244-1773619200-1779580799@ewu-bund.com
SUMMARY:Lehrgang zum Trainer C Leistungs- und/oder Basissport in Weyersheim
DESCRIPTION:Kurstermine: 16.03 + 23.03.26 Online; 12.-19.04. + 19.-22.05.26 Präsenz \nPrüfung: 23.05.2026
URL:https://ewu-bund.com/termin/lehrgang-zum-trainer-c-leistungs-und-oder-basissport-in-weyersheim/
LOCATION:67720 Weyersheim\, 67720 Weyersheim
CATEGORIES:APO AUSBILDUNG,RLP,Trainerausbildung,Trainerausbildung C
END:VEVENT
BEGIN:VEVENT
DTSTART;VALUE=DATE:20260316
DTEND;VALUE=DATE:20260524
DTSTAMP:20260420T001944
CREATED:20251121T094341Z
LAST-MODIFIED:20251121T094341Z
UID:10002245-1773619200-1779580799@ewu-bund.com
SUMMARY:Lehrgang zum Trainer B Leistungssport in Weyersheim
DESCRIPTION:Kurstermine: 16.03 + 23.03.26 Online; 12.-19.04. + 19.-22.05.26 Präsenz \nPrüfung: 23.05.2026
URL:https://ewu-bund.com/termin/lehrgang-zum-trainer-b-leistungssport-in-weyersheim/
LOCATION:67720 Weyersheim\, 67720 Weyersheim
CATEGORIES:APO AUSBILDUNG,RLP,Trainerausbildung,Trainerausbildung B
END:VEVENT
BEGIN:VEVENT
DTSTART;VALUE=DATE:20260401
DTEND;VALUE=DATE:20260622
DTSTAMP:20260420T001944
CREATED:20260409T083116Z
LAST-MODIFIED:20260409T083116Z
UID:10002420-1775001600-1782086399@ewu-bund.com
SUMMARY:Lehrgang zum Westernreitabzeichen 10 & 9 in Hersdorf
DESCRIPTION:Kurstermine: 01./02.04. + 31.05. + 20.06.26 \nPrüfung: 21.06.2026
URL:https://ewu-bund.com/termin/lehrgang-zum-westernreitabzeichen-10-9-in-hersdorf/
LOCATION:54597 Hersdorf
CATEGORIES:APO AUSBILDUNG,RLP,Westernreitabzeichen
ORGANIZER;CN="Astrid Diederichs":MAILTO:astridhockertz@yahoo.de
END:VEVENT
BEGIN:VEVENT
DTSTART;VALUE=DATE:20260403
DTEND;VALUE=DATE:20260511
DTSTAMP:20260420T001944
CREATED:20260319T081312Z
LAST-MODIFIED:20260319T081312Z
UID:10002401-1775174400-1778457599@ewu-bund.com
SUMMARY:Lehrgang zum Trainerassistenten im Westernreitsport in Memmingen
DESCRIPTION:Kurstermine: 03.-05.04. + 09.05.26 \nPrüfung: 10.05.2026
URL:https://ewu-bund.com/termin/lehrgang-zum-trainerassistenten-im-westernreitsport-in-memmingen/
LOCATION:Chrom-Ranch\, Im Dickenreis 61\, Memmingen\, 87700
CATEGORIES:APO AUSBILDUNG,BAY,Trainerausbildung
ORGANIZER;CN="Tanja Peukert":MAILTO:tanja@pink-creek-ranch.de
END:VEVENT
BEGIN:VEVENT
DTSTART;VALUE=DATE:20260408
DTEND;VALUE=DATE:20260430
DTSTAMP:20260420T001944
CREATED:20260205T093838Z
LAST-MODIFIED:20260211T132420Z
UID:10002364-1775606400-1777507199@ewu-bund.com
SUMMARY:Online-Fortbildung zur Verlängerung des DOSB Ausbilderzertifikats
DESCRIPTION:DOSB-Ausbildungsgänge stehen für anspruchsvolle Qualität. \nWer bereits die beiden Module Sozial- und Methodenkompetenz erfolgreich absolviert hat\, muss nach 4 Jahren dieses entsprechend verlängern. \nDiese Online-Fortbildung bietet dazu die Möglichkeit. \nDie Teilnahme ist reitweisenübergreifend. \n  \nDer Anmeldeschluss ist am 02. April 2026 \nDer Kurs ist auf max. 20 TN begrenzt\, also schnell anmelden. \nAnmeldung_Verlängerung \n  \nTerminübersicht: \nAb 08.04.26              Start im Edubreak Campus; Einleitung\, Anlegen eines Profil \n09.04.26                    19.30 Uhr – ca. 20.00 Uhr Begrüßung\, Kennenlernen im Dialog; Freigabe erster Aufgaben \n15.04.26                    19.30 Uhr – 21.00 Uhr Online Seminar 1: Kompetenzorientierung & Reduktion \n22.04.26                    19.00 Uhr – 21.00 Uhr Online Seminar 2: Kommunikation & Wunschthemen der TN \n29.04.26                    19.00 Uhr – ca. 20.30 Uhr Online Seminar 3: Ergebnisse & Abschluss-Meeting
URL:https://ewu-bund.com/termin/online-fortbildung-zur-verlaengerung-des-dosb-ausbilderzertifikats/
LOCATION:Online Seminar
CATEGORIES:APO AUSBILDUNG,TRAINERFORTBILDUNG
ATTACH;FMTTYPE=image/png:https://ewu-bund.com/wp-content/uploads/2026/02/2-1.png
ORGANIZER;CN="EWU Deutschland e.V.":MAILTO:info@ewu-bund.de
END:VEVENT
BEGIN:VEVENT
DTSTART;VALUE=DATE:20260410
DTEND;VALUE=DATE:20260525
DTSTAMP:20260420T001944
CREATED:20260319T082323Z
LAST-MODIFIED:20260319T082323Z
UID:10002405-1775779200-1779667199@ewu-bund.com
SUMMARY:Lehrgang zum Pferdeführerschein Umgang und Westernreitabzeichen 4 & 3 in Neuruppin
DESCRIPTION:Kurstermine: 10.-12.04. + 25./26.04. + 23./24.05.26 \nPrüfung: 24.05.2026
URL:https://ewu-bund.com/termin/lehrgang-zum-pferdefuehrerschein-umgang-und-westernreitabzeichen-4-3-in-neuruppin/
LOCATION:Airbase Ranch\, Hugo-Eckener-Ring 62\, Neuruppin\, 16816
CATEGORIES:APO AUSBILDUNG,B/BRA,Pferdeführerschein,Westernreitabzeichen
ORGANIZER;CN="Franzisca Heidenreich":MAILTO:franzisca_heidenreich@web.de
END:VEVENT
BEGIN:VEVENT
DTSTART;VALUE=DATE:20260418
DTEND;VALUE=DATE:20260427
DTSTAMP:20260420T001944
CREATED:20251212T094240Z
LAST-MODIFIED:20251212T094240Z
UID:10002275-1776470400-1777247999@ewu-bund.com
SUMMARY:Lehrgang zum Westernreitabzeichen 3 in Langenrain
DESCRIPTION:Kurstermine: 18./19.04. + 25.04.26 \nPrüfung: 26.04.2026
URL:https://ewu-bund.com/termin/lehrgang-zum-westernreitabzeichen-3-in-langenrain/
LOCATION:78476 Langenrain
CATEGORIES:APO AUSBILDUNG,BAWÜ,Pferdeführerschein,Westernreitabzeichen
ORGANIZER;CN="Diana Greiter":MAILTO:diana.buergel@freenet.de
END:VEVENT
BEGIN:VEVENT
DTSTART;VALUE=DATE:20260418
DTEND;VALUE=DATE:20260504
DTSTAMP:20260420T001944
CREATED:20251212T091311Z
LAST-MODIFIED:20251212T094953Z
UID:10002265-1776470400-1777852799@ewu-bund.com
SUMMARY:Lehrgang zum Westernreitabzeichen 10-7 in Gutenborn OZT Lonzig
DESCRIPTION:Kurstermine: 18./19.04. + 02.05.26 \nPrüfung; 03.05.2026
URL:https://ewu-bund.com/termin/lehrgang-zum-westernreitabzeichen-10-7-in-gutenborn-ozt-lonzig/
LOCATION:06712 Gutenborn OT Lonzig
CATEGORIES:APO AUSBILDUNG,SA/AN,THÜR,Westernreitabzeichen
ORGANIZER;CN="Nina Hahn":MAILTO:westernreiten.hahn@gmx.de
END:VEVENT
BEGIN:VEVENT
DTSTART;VALUE=DATE:20260424
DTEND;VALUE=DATE:20260427
DTSTAMP:20260420T001944
CREATED:20251217T133559Z
LAST-MODIFIED:20260410T181615Z
UID:10002285-1776988800-1777247999@ewu-bund.com
SUMMARY:C-Turnier Bad Abbach
DESCRIPTION:Nennung: https://ocelot.ewu-bund.de:10101/gateway/documents/PublicTurnierDoc/5512/1 \nMeldestelle: Astrid Islinger\, +49 170 2313002\, islinger.astrid@gmail.com \nZeitplan vorläufig: C-Turnier Bad Abbach 2026 Zeitplan \nPattern: C Bad Abbach – 25.-26.04.2026 – Patternbook
URL:https://ewu-bund.com/termin/c-turnier-bad-abbach/
LOCATION:Eiermühle\, Eiermühle 1\, Bad Abbach\, 93077
CATEGORIES:BAY,TURNIER
END:VEVENT
BEGIN:VEVENT
DTSTART;VALUE=DATE:20260425
DTEND;VALUE=DATE:20260427
DTSTAMP:20260420T001944
CREATED:20251217T132117Z
LAST-MODIFIED:20260415T065532Z
UID:10002278-1777075200-1777247999@ewu-bund.com
SUMMARY:C-Turnier Odenthal
DESCRIPTION:Nennung: https://ocelot.ewu-bund.de:10101/gateway/documents/PublicTurnierDoc/5487/1 \nMeldestelle: Petra Retthofer \nPattern: C Odenthal – 25.-26.04.2026 – Pattern
URL:https://ewu-bund.com/termin/c-turnier-odenthal/
LOCATION:Gut Amtmann Scherf\, Odenthal
CATEGORIES:RHLD,TURNIER
END:VEVENT
BEGIN:VEVENT
DTSTART;VALUE=DATE:20260425
DTEND;VALUE=DATE:20260427
DTSTAMP:20260420T001944
CREATED:20251217T133804Z
LAST-MODIFIED:20260302T164116Z
UID:10002286-1777075200-1777247999@ewu-bund.com
SUMMARY:C-Turnier Bilfingen-Kämpfelbach
DESCRIPTION:Nennung:https://ocelot.ewu-bund.de:10101/gateway/documents/PublicTurnierDoc/5517/1 \nMeldestelle: Lisa Tuscher\, meldestelle-siegwart@gmx.de\, Tel. 015118438477
URL:https://ewu-bund.com/termin/c-turnier-bilfingen-kaempfelbach/
LOCATION:Reit-und Fahrverein Kämpfelbach\, Königsbacherweg 6\, Kämpfelbach\, 75236
CATEGORIES:BAWÜ,TURNIER
END:VEVENT
BEGIN:VEVENT
DTSTART;VALUE=DATE:20260425
DTEND;VALUE=DATE:20260427
DTSTAMP:20260420T001944
CREATED:20251217T133936Z
LAST-MODIFIED:20260311T125102Z
UID:10002287-1777075200-1777247999@ewu-bund.com
SUMMARY:C-Turnier Wenden - Circle L Spring Special
DESCRIPTION:Nennung: https://ocelot.ewu-bund.de:10101/gateway/documents/PublicTurnierDoc/5522/1 \nMeldestelle: Meldestellenservice Barbers Home\, Mobil: 015141962216\, Email: meldestelle-ewu@t-online.de
URL:https://ewu-bund.com/termin/c-turnier-wenden-circle-l-spring-special/
LOCATION:Circle L Ranch\, Heidberg 21\, Stöckse\, 31638\, Deutschland
CATEGORIES:NS/H,TURNIER
END:VEVENT
BEGIN:VEVENT
DTSTART;VALUE=DATE:20260425
DTEND;VALUE=DATE:20260427
DTSTAMP:20260420T001944
CREATED:20251217T134108Z
LAST-MODIFIED:20260413T153749Z
UID:10002288-1777075200-1777247999@ewu-bund.com
SUMMARY:C-Turnier Heidelberg-Kirchheim mit Südwest Trophy
DESCRIPTION:Ausschreibung: https://ocelot.ewu-bund.de:10101/gateway/documents/PublicTurnierDoc/5486/1 \nMeldestelle: Daniela Leipert \nZeitplan endgültig: https://ocelot.ewu-bund.de:10101/gateway/documents/PublicTurnierDoc/5486/2
URL:https://ewu-bund.com/termin/c-turnier-heidelberg-kirchheim-mit-suedwest-trophy/
LOCATION:Reit- und Fahrverein Heidelberg-Kirchheim\, Heunauerweg\, Heidelberg\, 69124
CATEGORIES:RLP,TURNIER
END:VEVENT
BEGIN:VEVENT
DTSTART;VALUE=DATE:20260425
DTEND;VALUE=DATE:20260427
DTSTAMP:20260420T001944
CREATED:20251217T134218Z
LAST-MODIFIED:20260209T062144Z
UID:10002289-1777075200-1777247999@ewu-bund.com
SUMMARY:C-Turnier Seehof Reibitz
DESCRIPTION:Nennung: https://ocelot.ewu-bund.de:10101/gateway/documents/PublicTurnierDoc/5503/1 \nMeldestelle: Kerstin Libuschewski\, Mobil: 01628861685\, Email: ktlibuschewski@t-online.de
URL:https://ewu-bund.com/termin/c-turnier-seehof-reibitz/
LOCATION:Seehof Reibitz\, Teichstraße 2D\, Löbnitz\, 04509
CATEGORIES:SACHS,TURNIER
ORGANIZER;CN="Seehof Reibitz - Teichstr. 2%2C 04509 L%C3%B6bnitz OT Reibitz":MAILTO:kontakt@seehof-reibitz.de
END:VEVENT
BEGIN:VEVENT
DTSTART;VALUE=DATE:20260425
DTEND;VALUE=DATE:20260427
DTSTAMP:20260420T001944
CREATED:20260116T100412Z
LAST-MODIFIED:20260116T100412Z
UID:10002344-1777075200-1777247999@ewu-bund.com
SUMMARY:Trainerfortbildung "Zusammenspiel der Hilfen" in Wagenhoff
DESCRIPTION:Anerkannte Trainerfortbildung mit 15LE Profil 1 (beide Tage) \nAnmeldungen und Fragen bitte direkt an Marina Perner wenden.
URL:https://ewu-bund.com/termin/trainerfortbildung-zusammenspiel-der-hilfen-in-wagenhoff/
LOCATION:38559 Wagenhoff\, Wagenhoff\, 38559\, Deutschland
CATEGORIES:APO AUSBILDUNG,NS/H,TRAINERFORTBILDUNG
ORGANIZER;CN="Marina Perner":MAILTO:marina.perner@web.de
END:VEVENT
BEGIN:VEVENT
DTSTART;VALUE=DATE:20260425
DTEND;VALUE=DATE:20260504
DTSTAMP:20260420T001944
CREATED:20251121T095532Z
LAST-MODIFIED:20251121T095532Z
UID:10002249-1777075200-1777852799@ewu-bund.com
SUMMARY:Lehrgang zum Trainerassistenten im Westernreitsport in Schiltberg
DESCRIPTION:Kurstermine: 25./26.04. + 02.05.26 \nPrüfung: 03.05.2026
URL:https://ewu-bund.com/termin/lehrgang-zum-trainerassistenten-im-westernreitsport-in-schiltberg/
LOCATION:86576 Schiltberg
CATEGORIES:APO AUSBILDUNG,BAY,Trainerausbildung
ORGANIZER;CN="Maria Holz":MAILTO:maria@pm-horsetraining.de
END:VEVENT
BEGIN:VEVENT
DTSTART;VALUE=DATE:20260425
DTEND;VALUE=DATE:20260507
DTSTAMP:20260420T001944
CREATED:20260226T083324Z
LAST-MODIFIED:20260226T083324Z
UID:10002378-1777075200-1778111999@ewu-bund.com
SUMMARY:Lehrgang zum Pferdeführerschein Umgang und Westernreitabzeichen 4 & 3 in Düsseldorf
DESCRIPTION:Kurstermine: 25./26.04. + 02./03.05.26 \nPrüfung: 06.05.2026
URL:https://ewu-bund.com/termin/lehrgang-zum-pferdefuehrerschein-umgang-und-westernreitabzeichen-4-3-in-duesseldorf-2/
LOCATION:40489 Düsseldorf
CATEGORIES:APO AUSBILDUNG,Pferdeführerschein,RHLD,Westernreitabzeichen
ORGANIZER;CN="Jill Hennig":MAILTO:jillhennig@hotmail.de
END:VEVENT
BEGIN:VEVENT
DTSTART;VALUE=DATE:20260425
DTEND;VALUE=DATE:20260524
DTSTAMP:20260420T001944
CREATED:20260116T092932Z
LAST-MODIFIED:20260116T092932Z
UID:10002334-1777075200-1779580799@ewu-bund.com
SUMMARY:Lehrgang zum Pferdeführerschein Umgang in Pfullingen
DESCRIPTION:Kurstermine: 25./26.04. + 09.05. + 16./17.05.26 \nPrüfung: 23.05.2026
URL:https://ewu-bund.com/termin/lehrgang-zum-pferdefuehrerschein-umgang-in-pfullingen-2/
LOCATION:72793 Pfullingen
CATEGORIES:APO AUSBILDUNG,BAWÜ,Pferdeführerschein
ORGANIZER;CN="Susanne Tr%C3%B6ster":MAILTO:susi.troester@web.de
END:VEVENT
BEGIN:VEVENT
DTSTART;TZID=Europe/Berlin:20260426T090000
DTEND;TZID=Europe/Berlin:20260426T133000
DTSTAMP:20260420T001944
CREATED:20260309T080246Z
LAST-MODIFIED:20260309T080310Z
UID:10002389-1777194000-1777210200@ewu-bund.com
SUMMARY:Trainerfortbildung "Falltraining-Kurs" mit Julia Kohlstadt in Nieder-Wöllstatt
DESCRIPTION:Hier geht´s zur Ausschreibung: 2026 TFB Fallkurs \nBei Fragen bitte direkt bei Julia Kohlstadt unter fairplay4horses@web.de \nAnmeldungen bitte direkt an vera.hennig@gmx.de \nEs handelt sich um eine anerkannte Trainerfortbildung zur Lizenz-Verlängerung mit 4 LE Profil 5
URL:https://ewu-bund.com/termin/trainerfortbildung-falltraining-kurs-mit-julia-kohlstadt-in-nieder-woellstatt/
LOCATION:61206 Nieder-Wöllstatt
CATEGORIES:HES,Präsenz Seminar,TRAINERFORTBILDUNG
ORGANIZER;CN="Vera Hennig-Schmidt":MAILTO:vera.hennig@gmx.de
END:VEVENT
BEGIN:VEVENT
DTSTART;VALUE=DATE:20260430
DTEND;VALUE=DATE:20260504
DTSTAMP:20260420T001944
CREATED:20251205T093232Z
LAST-MODIFIED:20260126T142019Z
UID:10002258-1777507200-1777852799@ewu-bund.com
SUMMARY:Lehrgang zum Pferdeführerschein Umgang und Westernreitabzeichen 4 & 3 in Nümbrecht
DESCRIPTION:Kurstermine: 30.04.-02.05.26 \nPrüfung: 03.05.2026
URL:https://ewu-bund.com/termin/lehrgang-zum-pferdefuehrerschein-umgang-und-westernreitabzeichen-4-3-in-nuembrecht/
LOCATION:Trainingsstall Leckebusch\, Geringhauser Mühle 14\, Nümbrecht\, 51588
CATEGORIES:APO AUSBILDUNG,Pferdeführerschein,RHLD,Westernreitabzeichen
END:VEVENT
BEGIN:VEVENT
DTSTART;VALUE=DATE:20260430
DTEND;VALUE=DATE:20260518
DTSTAMP:20260420T001944
CREATED:20260409T082228Z
LAST-MODIFIED:20260409T082228Z
UID:10002417-1777507200-1779062399@ewu-bund.com
SUMMARY:Lehrgang zum Pferdeführerschein Umgang und Westernreitabzeichen 4 in Bevern
DESCRIPTION:Kurstermine: 30.04.-03.05. + 14./15.05.26 \nPrüfung: 17.05.2026
URL:https://ewu-bund.com/termin/lehrgang-zum-pferdefuehrerschein-umgang-und-westernreitabzeichen-4-in-bevern/
LOCATION:25355 Bevern
CATEGORIES:APO AUSBILDUNG,HH/SH,Pferdeführerschein,Westernreitabzeichen
ORGANIZER;CN="Alexandra Hansen":MAILTO:mztf21@gmail.com
END:VEVENT
BEGIN:VEVENT
DTSTART;TZID=Europe/Berlin:20260430T080000
DTEND;TZID=Europe/Berlin:20260503T170000
DTSTAMP:20260420T001944
CREATED:20251015T060226Z
LAST-MODIFIED:20260303T053425Z
UID:10002192-1777536000-1777827600@ewu-bund.com
SUMMARY:A+Q+C Balingen
DESCRIPTION:Ausschreibung: https://ocelot.ewu-bund.de:10101/gateway/documents/PublicTurnierDoc/5504/1 \nMeldestelle: Lotte Tröger \nvorgezogener Nennschluss: 28.02.2026 \n 
URL:https://ewu-bund.com/termin/aqc-balingen/
LOCATION:Balingen\, Reichenbacher Hof 1\, Balingen\, 72336\, Deutschland
CATEGORIES:BAWÜ,TURNIER
ORGANIZER;CN="Bettina Egenter":MAILTO:info@eqh-online.de
END:VEVENT
BEGIN:VEVENT
DTSTART;TZID=Europe/Berlin:20260430T080000
DTEND;TZID=Europe/Berlin:20260503T170000
DTSTAMP:20260420T001944
CREATED:20251015T060323Z
LAST-MODIFIED:20260222T174117Z
UID:10002193-1777536000-1777827600@ewu-bund.com
SUMMARY:A+Q+C Burgebrach
DESCRIPTION:Ausschreibung: https://ocelot.ewu-bund.de:10101/gateway/documents/PublicTurnierDoc/5502/1 \nMeldestelle: Cornelia Pickel
URL:https://ewu-bund.com/termin/aqc-burgebrach/
LOCATION:Green Ground Ranch\, Failshof 1\, Burgebrach\, 96138
CATEGORIES:BAY,TURNIER
END:VEVENT
BEGIN:VEVENT
DTSTART;TZID=Europe/Berlin:20260430T080000
DTEND;TZID=Europe/Berlin:20260503T170000
DTSTAMP:20260420T001944
CREATED:20251015T060618Z
LAST-MODIFIED:20260220T073819Z
UID:10002194-1777536000-1777827600@ewu-bund.com
SUMMARY:A+Q+C Florstadt
DESCRIPTION:Ausschreibung: https://ocelot.ewu-bund.de:10101/gateway/documents/PublicTurnierDoc/5491/1 \nMeldestelle: Peter Raabe
URL:https://ewu-bund.com/termin/aqc-florstadt/
LOCATION:Reitsportanlage Essert & Schmieder\, Lindenhof 2\, Florstadt\, 61197
CATEGORIES:HES,TURNIER
ORGANIZER;CN="Manuel Fleckenstein":MAILTO:buedelm@gmx.net
END:VEVENT
BEGIN:VEVENT
DTSTART;TZID=Europe/Berlin:20260430T080000
DTEND;TZID=Europe/Berlin:20260503T170000
DTSTAMP:20260420T001944
CREATED:20251015T061812Z
LAST-MODIFIED:20260205T135439Z
UID:10002195-1777536000-1777827600@ewu-bund.com
SUMMARY:A+Q+C Seppenrade
DESCRIPTION:Ausschreibung: https://ocelot.ewu-bund.de:10101/gateway/documents/PublicTurnierDoc/5492/1 \nMeldestelle: Petra Retthofer\, Mobil 016095209131 – Mail petraretthofer@gmx.de
URL:https://ewu-bund.com/termin/aqc-seppenrade/
LOCATION:RuFV Seppenrade\, Ondrup 37\, Lüdinghausen
CATEGORIES:RHLD,TURNIER
ORGANIZER;CN="Patrick Brueggen":MAILTO:petraretthofer@gmx.de
END:VEVENT
BEGIN:VEVENT
DTSTART;VALUE=DATE:20260501
DTEND;VALUE=DATE:20260502
DTSTAMP:20260420T001944
CREATED:20251217T134332Z
LAST-MODIFIED:20260216T060207Z
UID:10002290-1777593600-1777679999@ewu-bund.com
SUMMARY:C-Turnier Bissendorf
DESCRIPTION:Nennung: https://ocelot.ewu-bund.de:10101/gateway/documents/PublicTurnierDoc/5506/1 \nMeldestelle: Christiane Karlsfeld\, Mobil: 01738713738\, Email: mail@eisbeck-ranch.de
URL:https://ewu-bund.com/termin/c-turnier-bissendorf/
LOCATION:Eisbeck Ranch\, Eisbeckweg 5\, Bissendorf\, 49143
CATEGORIES:NS/H,TURNIER
END:VEVENT
BEGIN:VEVENT
DTSTART;VALUE=DATE:20260501
DTEND;VALUE=DATE:20260526
DTSTAMP:20260420T001944
CREATED:20251121T090443Z
LAST-MODIFIED:20260126T141901Z
UID:10002230-1777593600-1779753599@ewu-bund.com
SUMMARY:Lehrgang zum Pferdeführerschein Umgang und Westernreitabzeichen 4 & 3 in Elztal-Dallau
DESCRIPTION:Kurstermine: 01.-03.05. + 23./24.05.26 \nPrüfung: 25.05.2026
URL:https://ewu-bund.com/termin/lehrgang-zum-pferdefuehrerschein-umgang-und-westernreitabzeichen-4-3-in-elztal-dallau/
LOCATION:Hof Ehrfeld\, Elztal-Dallau\, 74834\, Deutschland
CATEGORIES:APO AUSBILDUNG,BAWÜ,Pferdeführerschein,Westernreitabzeichen
ORGANIZER;CN="Kathrin Ehrfeld":MAILTO:kathrin-ehrfeld@t-online.de
END:VEVENT
BEGIN:VEVENT
DTSTART;TZID=Europe/Berlin:20260501T080000
DTEND;TZID=Europe/Berlin:20260503T170000
DTSTAMP:20260420T001944
CREATED:20251015T062306Z
LAST-MODIFIED:20260226T121050Z
UID:10002196-1777622400-1777827600@ewu-bund.com
SUMMARY:A+Q+C Großbeeren
DESCRIPTION:Ausschreibung: https://ocelot.ewu-bund.de:10101/gateway/documents/PublicTurnierDoc/5523/1 \nMeldestelle: Torsten Rokosch
URL:https://ewu-bund.com/termin/aqc-grossbeeren/
LOCATION:Horsecompany Tina Ullbrich\, Birkholzer Straße\, Großbeeren
CATEGORIES:B/BRA,TURNIER
END:VEVENT
BEGIN:VEVENT
DTSTART;TZID=Europe/Berlin:20260501T080000
DTEND;TZID=Europe/Berlin:20260503T170000
DTSTAMP:20260420T001944
CREATED:20251015T063033Z
LAST-MODIFIED:20260414T182151Z
UID:10002197-1777622400-1777827600@ewu-bund.com
SUMMARY:A+Q+C Haren
DESCRIPTION:Ausschreibung: https://ocelot.ewu-bund.de:10101/gateway/documents/PublicTurnierDoc/5524/1 \nMeldestelle: Frieda Mertens \nPattern: A+Q+C Haren – 01.-03.05.2026 – Patternbook
URL:https://ewu-bund.com/termin/aqc-haren/
LOCATION:Kamphuis Quarter Horses\, Eichenallee 72\, Haren\, 49733
CATEGORIES:HB/NS,TURNIER
ORGANIZER;CN="Frieda Mertens":MAILTO:info@triplestar.eu
END:VEVENT
BEGIN:VEVENT
DTSTART;VALUE=DATE:20260506
DTEND;VALUE=DATE:20260510
DTSTAMP:20260420T001944
CREATED:20260409T083327Z
LAST-MODIFIED:20260409T083327Z
UID:10002421-1778025600-1778371199@ewu-bund.com
SUMMARY:Lehrgang zum Trainerassistenten im Westernreitsport in Kürten
DESCRIPTION:Kurstermine: 06.-08.05.26 \nPrüfung; 09.05.2026
URL:https://ewu-bund.com/termin/lehrgang-zum-trainerassistenten-im-westernreitsport-in-kuerten/
LOCATION:Westernreitstall Erlenbusch\, Erlenbusch 1\, Kürten\, 51515\, Deutschland
CATEGORIES:APO AUSBILDUNG,RHLD,Trainerausbildung
ORGANIZER;CN="Katharina Wieferig":MAILTO:kati.grad@me.com
END:VEVENT
END:VCALENDAR