BEGIN:VCALENDAR
VERSION:2.0
PRODID:-//Westernreiter - ECPv6.15.20//NONSGML v1.0//EN
CALSCALE:GREGORIAN
METHOD:PUBLISH
X-WR-CALNAME:Westernreiter
X-ORIGINAL-URL:https://ewu-bund.com
X-WR-CALDESC:Veranstaltungen für Westernreiter
REFRESH-INTERVAL;VALUE=DURATION:PT1H
X-Robots-Tag:noindex
X-PUBLISHED-TTL:PT1H
BEGIN:VTIMEZONE
TZID:Europe/Berlin
BEGIN:DAYLIGHT
TZOFFSETFROM:+0100
TZOFFSETTO:+0200
TZNAME:CEST
DTSTART:20250330T010000
END:DAYLIGHT
BEGIN:STANDARD
TZOFFSETFROM:+0200
TZOFFSETTO:+0100
TZNAME:CET
DTSTART:20251026T010000
END:STANDARD
BEGIN:DAYLIGHT
TZOFFSETFROM:+0100
TZOFFSETTO:+0200
TZNAME:CEST
DTSTART:20260329T010000
END:DAYLIGHT
BEGIN:STANDARD
TZOFFSETFROM:+0200
TZOFFSETTO:+0100
TZNAME:CET
DTSTART:20261025T010000
END:STANDARD
BEGIN:DAYLIGHT
TZOFFSETFROM:+0100
TZOFFSETTO:+0200
TZNAME:CEST
DTSTART:20270328T010000
END:DAYLIGHT
BEGIN:STANDARD
TZOFFSETFROM:+0200
TZOFFSETTO:+0100
TZNAME:CET
DTSTART:20271031T010000
END:STANDARD
END:VTIMEZONE
BEGIN:VEVENT
DTSTART;VALUE=DATE:20260710
DTEND;VALUE=DATE:20261110
DTSTAMP:20260425T195451
CREATED:20260409T082629Z
LAST-MODIFIED:20260409T082629Z
UID:10002418-1783641600-1794268799@ewu-bund.com
SUMMARY:Lehrgang zum Trainer C Leistungssport in Krefeld
DESCRIPTION:Kurstermine: \n10.-12.07. + 28.-30.08. + 04.-06.09. + 26./27.09. + 30.10.-01.11. + 07./08.11.26 \nPrüfung: 09.11.2026
URL:https://ewu-bund.com/termin/lehrgang-zum-trainer-c-leistungssport-in-krefeld/
LOCATION:47807 Krefeld
CATEGORIES:APO AUSBILDUNG,RHLD,Trainerausbildung,Trainerausbildung C
ORGANIZER;CN="Susanne Flesch":MAILTO:susanne.flesch@gmx.net
END:VEVENT
BEGIN:VEVENT
DTSTART;VALUE=DATE:20261003
DTEND;VALUE=DATE:20261106
DTSTAMP:20260425T195451
CREATED:20251205T093545Z
LAST-MODIFIED:20251205T093545Z
UID:10002260-1790985600-1793923199@ewu-bund.com
SUMMARY:Lehrgang zum Trainer C Leistungs- und/oder Basissport im Westernreiten in Wagenhoff
DESCRIPTION:Kurstermine: 03.-09.10. + 01.-04.11.26 zzgl. Online 14./15.10. + 20.10.26 \nPrüfung: 05.11.2026
URL:https://ewu-bund.com/termin/lehrgang-zum-trainer-c-leistungs-und-oder-basissport-im-westernreiten-in-wagenhoff/
LOCATION:38559 Wagenhoff\, Wagenhoff\, 38559\, Deutschland
CATEGORIES:APO AUSBILDUNG,HB/NS,Trainerausbildung C
ORGANIZER;CN="Marina Perner":MAILTO:marina.perner@web.de
END:VEVENT
BEGIN:VEVENT
DTSTART;VALUE=DATE:20261003
DTEND;VALUE=DATE:20261115
DTSTAMP:20260425T195451
CREATED:20260112T135827Z
LAST-MODIFIED:20260112T135827Z
UID:10002324-1790985600-1794700799@ewu-bund.com
SUMMARY:C-Turnier Lamspringe
DESCRIPTION:Ausschreibung: \nMeldestelle: Meldestellenservice Barbers Home\nMobil: 015141962216\nEmail: meldestelle-ewu@t-online.de
URL:https://ewu-bund.com/termin/c-turnier-lamspringe-2/
LOCATION:Pferdesportzentrum Lammetal\, Kleberkamp 1\, Lamspringe\, 31195
CATEGORIES:NS/H,TURNIER
ORGANIZER;CN="Reitsportverein Lammetal":MAILTO:c.reulecke@lammetal.net
END:VEVENT
BEGIN:VEVENT
DTSTART;VALUE=DATE:20261005
DTEND;VALUE=DATE:20261125
DTSTAMP:20260425T195451
CREATED:20260116T094349Z
LAST-MODIFIED:20260116T094349Z
UID:10002338-1791158400-1795564799@ewu-bund.com
SUMMARY:Lehrgang zum Trainer C Leistungssport Westernreiten in Niedertaufkirchen
DESCRIPTION:Kurstermine: 05.-15.10. + 17.-23.11.26 \nPrüfung: 24.11.2026
URL:https://ewu-bund.com/termin/lehrgang-zum-trainer-c-leistungssport-westernreiten-in-niedertaufkirchen/
LOCATION:Sherwoodranch\, Hinteralbing 1\, Niedertaufkirchen\, 84494
CATEGORIES:APO AUSBILDUNG,BAY,Trainerausbildung C
ORGANIZER;CN="Nadine Hartmann":MAILTO:nadine@nh-westerntraining.de
END:VEVENT
BEGIN:VEVENT
DTSTART;VALUE=DATE:20261005
DTEND;VALUE=DATE:20261125
DTSTAMP:20260425T195451
CREATED:20260116T094429Z
LAST-MODIFIED:20260116T094429Z
UID:10002339-1791158400-1795564799@ewu-bund.com
SUMMARY:Lehrgang zum Trainer B Leistungssport Westernreiten in Niedertaufkirchen
DESCRIPTION:Kurstermine: 05.-11.10. + 21.-23.11.26 \nPrüfung: 24.11.2026
URL:https://ewu-bund.com/termin/lehrgang-zum-trainer-b-leistungssport-westernreiten-in-niedertaufkirchen/
LOCATION:Sherwoodranch\, Hinteralbing 1\, Niedertaufkirchen\, 84494
CATEGORIES:APO AUSBILDUNG,BAY,Trainerausbildung,Trainerausbildung B
ORGANIZER;CN="Nadine Hartmann":MAILTO:nadine@nh-westerntraining.de
END:VEVENT
BEGIN:VEVENT
DTSTART;VALUE=DATE:20261006
DTEND;VALUE=DATE:20261106
DTSTAMP:20260425T195451
CREATED:20251205T093641Z
LAST-MODIFIED:20251205T093641Z
UID:10002261-1791244800-1793923199@ewu-bund.com
SUMMARY:Lehrgang zum Trainer B Leistungssport im Westernreiten in Wagenhoff
DESCRIPTION:Kurstermine: 06.-09.10. + 03.-04.11.26 zzgl. Online 21.10.26 \nPrüfung: 05.11.2026
URL:https://ewu-bund.com/termin/lehrgang-zum-trainer-b-leistungssport-im-westernreiten-in-wagenhoff/
LOCATION:38559 Wagenhoff\, Wagenhoff\, 38559\, Deutschland
CATEGORIES:APO AUSBILDUNG,HB/NS,Trainerausbildung,Trainerausbildung B
ORGANIZER;CN="Marina Perner":MAILTO:marina.perner@web.de
END:VEVENT
BEGIN:VEVENT
DTSTART;VALUE=DATE:20261010
DTEND;VALUE=DATE:20261016
DTSTAMP:20260425T195451
CREATED:20260130T073313Z
LAST-MODIFIED:20260130T073313Z
UID:10002355-1791590400-1792108799@ewu-bund.com
SUMMARY:Lehrgang zum Pferdeführerschein Umgang und Westernreitabzeichen 4 & 3 in Neuschoo
DESCRIPTION:Kurstermine: 10.-14.10.26 \nPrüfung: 15.10.2026
URL:https://ewu-bund.com/termin/lehrgang-zum-pferdefuehrerschein-umgang-und-westernreitabzeichen-4-3-in-neuschoo/
LOCATION:Voßhörnerhof\, Voßhörner Weg 9\, Neuschoo\, 26487
CATEGORIES:APO AUSBILDUNG,HB/NS,Pferdeführerschein,Westernreitabzeichen
ORGANIZER;CN="Sascha Sadtler":MAILTO:reiten@vosshornerhof.de
END:VEVENT
BEGIN:VEVENT
DTSTART;VALUE=DATE:20261011
DTEND;VALUE=DATE:20261116
DTSTAMP:20260425T195451
CREATED:20260319T082118Z
LAST-MODIFIED:20260319T082118Z
UID:10002403-1791676800-1794787199@ewu-bund.com
SUMMARY:Lehrgang zum Trainer C Leistungssport in Kevelaer
DESCRIPTION:Kurstermine: 11.-18.10. + 09.-14.11.26 \nPrüfung: 15.11.2026
URL:https://ewu-bund.com/termin/lehrgang-zum-trainer-c-leistungssport-in-kevelaer/
LOCATION:Nibbana’d\, Grotendonker Str. 54\, Kevelaer\, 47626
CATEGORIES:APO AUSBILDUNG,RHLD,Trainerausbildung C
END:VEVENT
BEGIN:VEVENT
DTSTART;VALUE=DATE:20261011
DTEND;VALUE=DATE:20261116
DTSTAMP:20260425T195451
CREATED:20260319T082143Z
LAST-MODIFIED:20260319T082143Z
UID:10002404-1791676800-1794787199@ewu-bund.com
SUMMARY:Lehrgang zum Trainer B Leistungssport in Kevelaer
DESCRIPTION:Kurstermine: 11.-18.10. + 09.-14.11.26 \nPrüfung: 15.11.2026
URL:https://ewu-bund.com/termin/lehrgang-zum-trainer-b-leistungssport-in-kevelaer/
LOCATION:Nibbana’d\, Grotendonker Str. 54\, Kevelaer\, 47626
CATEGORIES:APO AUSBILDUNG,RHLD,Trainerausbildung C
END:VEVENT
BEGIN:VEVENT
DTSTART;VALUE=DATE:20261014
DTEND;VALUE=DATE:20261213
DTSTAMP:20260425T195451
CREATED:20251121T091637Z
LAST-MODIFIED:20251218T104852Z
UID:10002234-1791936000-1797119999@ewu-bund.com
SUMMARY:Lehrgang zum Trainer C Leistungssport oder Basissport in Brunsbüttel
DESCRIPTION:Kurstermine: Online: 14./15.10. + 20.10.26 \nPräsenz: 22.11.-27.11. + 08.-11.12.26 \nPrüfung: 12.12.2026
URL:https://ewu-bund.com/termin/lehrgang-zum-trainer-c-leistungssport-in-brunsbuettel/
LOCATION:25541 Brunsbüttel\, Brunsbüttel\, 25541\, Deutschland
CATEGORIES:APO AUSBILDUNG,HH/SH,Trainerausbildung C
END:VEVENT
BEGIN:VEVENT
DTSTART;VALUE=DATE:20261016
DTEND;VALUE=DATE:20261023
DTSTAMP:20260425T195451
CREATED:20251205T092846Z
LAST-MODIFIED:20251205T092846Z
UID:10002255-1792108800-1792713599@ewu-bund.com
SUMMARY:Lehrgang zum Trainer B Westernreiten in Nümbrecht
DESCRIPTION:Kurstermine: 16.-21.10.26 (zzgl. ZOOM-Termine) \nPrüfung: 22.10.2026
URL:https://ewu-bund.com/termin/lehrgang-zum-trainer-b-westernreiten-in-nuembrecht/
LOCATION:Trainingsstall Leckebusch\, Geringhauser Mühle 14\, Nümbrecht\, 51588
CATEGORIES:APO AUSBILDUNG,RHLD,Trainerausbildung B
END:VEVENT
BEGIN:VEVENT
DTSTART;VALUE=DATE:20261016
DTEND;VALUE=DATE:20261102
DTSTAMP:20260425T195451
CREATED:20260130T074358Z
LAST-MODIFIED:20260130T074358Z
UID:10002357-1792108800-1793577599@ewu-bund.com
SUMMARY:Lehrgang zum Pferdeführerschein Umgang und Westernreitabzeichen 4 & 3 in Neukirchen a.d. Eknach
DESCRIPTION:Kurstermine: 16.-18.10. + 30./31.10.26 \nPrüfung: 01.11.2026
URL:https://ewu-bund.com/termin/lehrgang-zum-pferdefuehrerschein-umgang-und-westernreitabzeichen-4-3-in-neukirchen-a-d-eknach/
LOCATION:Inn River Ranch\, Stoibergassen 4\, Neukirchen/E.\, 5145\, Austria
CATEGORIES:APO AUSBILDUNG,BAY,Pferdeführerschein,Westernreitabzeichen
ORGANIZER;CN="Sabrina Botur":MAILTO:info@medley-ranch.de
END:VEVENT
BEGIN:VEVENT
DTSTART;VALUE=DATE:20261017
DTEND;VALUE=DATE:20261019
DTSTAMP:20260425T195451
CREATED:20260112T135944Z
LAST-MODIFIED:20260112T135944Z
UID:10002325-1792195200-1792367999@ewu-bund.com
SUMMARY:C-Turnier Wenden
DESCRIPTION:Ausschreibung: \nMeldestelle: Meldestellenservice Barbers Home\nMobil: 015141962216\nEmail: meldestelle-ewu@t-online.de
URL:https://ewu-bund.com/termin/c-turnier-wenden/
LOCATION:Circle L Ranch\, Heidberg 21\, Stöckse\, 31638\, Deutschland
CATEGORIES:NS/H,TURNIER
END:VEVENT
BEGIN:VEVENT
DTSTART;VALUE=DATE:20261017
DTEND;VALUE=DATE:20261109
DTSTAMP:20260425T195451
CREATED:20260116T093028Z
LAST-MODIFIED:20260116T093028Z
UID:10002335-1792195200-1794182399@ewu-bund.com
SUMMARY:Lehrgang zum Pferdeführerschein Umgang in Pfullingen
DESCRIPTION:Kurstermine: 17./18.10. + 24./25.10. + 07.11.26 \nPrüfung: 08.11.2026
URL:https://ewu-bund.com/termin/lehrgang-zum-pferdefuehrerschein-umgang-in-pfullingen-3/
LOCATION:72793 Pfullingen
CATEGORIES:APO AUSBILDUNG,BAWÜ,Pferdeführerschein
ORGANIZER;CN="Susanne Tr%C3%B6ster":MAILTO:susi.troester@web.de
END:VEVENT
END:VCALENDAR