BEGIN:VCALENDAR
VERSION:2.0
PRODID:-//Westernreiter - ECPv6.15.20//NONSGML v1.0//EN
CALSCALE:GREGORIAN
METHOD:PUBLISH
X-ORIGINAL-URL:https://ewu-bund.com
X-WR-CALDESC:Veranstaltungen für Westernreiter
REFRESH-INTERVAL;VALUE=DURATION:PT1H
X-Robots-Tag:noindex
X-PUBLISHED-TTL:PT1H
BEGIN:VTIMEZONE
TZID:Europe/Berlin
BEGIN:DAYLIGHT
TZOFFSETFROM:+0100
TZOFFSETTO:+0200
TZNAME:CEST
DTSTART:20250330T010000
END:DAYLIGHT
BEGIN:STANDARD
TZOFFSETFROM:+0200
TZOFFSETTO:+0100
TZNAME:CET
DTSTART:20251026T010000
END:STANDARD
BEGIN:DAYLIGHT
TZOFFSETFROM:+0100
TZOFFSETTO:+0200
TZNAME:CEST
DTSTART:20260329T010000
END:DAYLIGHT
BEGIN:STANDARD
TZOFFSETFROM:+0200
TZOFFSETTO:+0100
TZNAME:CET
DTSTART:20261025T010000
END:STANDARD
BEGIN:DAYLIGHT
TZOFFSETFROM:+0100
TZOFFSETTO:+0200
TZNAME:CEST
DTSTART:20270328T010000
END:DAYLIGHT
BEGIN:STANDARD
TZOFFSETFROM:+0200
TZOFFSETTO:+0100
TZNAME:CET
DTSTART:20271031T010000
END:STANDARD
END:VTIMEZONE
BEGIN:VEVENT
DTSTART;VALUE=DATE:20260704
DTEND;VALUE=DATE:20260706
DTSTAMP:20260425T044857
CREATED:20251217T131801Z
LAST-MODIFIED:20260224T183314Z
UID:10002277-1783123200-1783295999@ewu-bund.com
SUMMARY:C-Turnier Silent Corner
DESCRIPTION:Nennung: https://ocelot.ewu-bund.de:10101/gateway/documents/PublicTurnierDoc/5514/1 \nMeldestelle: Gudrun Hellwig\, 01735432420\, gudrunhellwig7@gmail.com \n\n            \n                \n            \n            Auf Facebook teilen
URL:https://ewu-bund.com/termin/c-turnier-silent-corner/
LOCATION:Silent Corner Westernreit- und Fahrgemeinschaft Trüben e.V.\, Zerbster Str. 12\, Zerbst/Anhalt OT Trüben\, SA/AN\, 39264\, Deutschland
CATEGORIES:SA/AN,TURNIER
END:VEVENT
END:VCALENDAR