BEGIN:VCALENDAR
VERSION:2.0
PRODID:-//Westernreiter - ECPv6.15.20//NONSGML v1.0//EN
CALSCALE:GREGORIAN
METHOD:PUBLISH
X-WR-CALNAME:Westernreiter
X-ORIGINAL-URL:https://ewu-bund.com
X-WR-CALDESC:Veranstaltungen für Westernreiter
REFRESH-INTERVAL;VALUE=DURATION:PT1H
X-Robots-Tag:noindex
X-PUBLISHED-TTL:PT1H
BEGIN:VTIMEZONE
TZID:Europe/Berlin
BEGIN:DAYLIGHT
TZOFFSETFROM:+0100
TZOFFSETTO:+0200
TZNAME:CEST
DTSTART:20250330T010000
END:DAYLIGHT
BEGIN:STANDARD
TZOFFSETFROM:+0200
TZOFFSETTO:+0100
TZNAME:CET
DTSTART:20251026T010000
END:STANDARD
BEGIN:DAYLIGHT
TZOFFSETFROM:+0100
TZOFFSETTO:+0200
TZNAME:CEST
DTSTART:20260329T010000
END:DAYLIGHT
BEGIN:STANDARD
TZOFFSETFROM:+0200
TZOFFSETTO:+0100
TZNAME:CET
DTSTART:20261025T010000
END:STANDARD
BEGIN:DAYLIGHT
TZOFFSETFROM:+0100
TZOFFSETTO:+0200
TZNAME:CEST
DTSTART:20270328T010000
END:DAYLIGHT
BEGIN:STANDARD
TZOFFSETFROM:+0200
TZOFFSETTO:+0100
TZNAME:CET
DTSTART:20271031T010000
END:STANDARD
END:VTIMEZONE
BEGIN:VEVENT
DTSTART;VALUE=DATE:20260330
DTEND;VALUE=DATE:20260405
DTSTAMP:20260422T014906
CREATED:20251121T094658Z
LAST-MODIFIED:20251121T094658Z
UID:10002246-1774828800-1775347199@ewu-bund.com
SUMMARY:Lehrgang zum Pferdeführerschein Umgang und Westernreitabzeichen 4 & 3 in Münchingen
DESCRIPTION:Kurstermine: 30.03.-03.04.26 \nPrüfung: 04.04.2026 \n\n            \n                \n            \n            Auf Facebook teilen
URL:https://ewu-bund.com/termin/lehrgang-zum-pferdefuehrerschein-umgang-und-westernreitabzeichen-4-3-in-muenchingen/
LOCATION:70825 Münchingen
CATEGORIES:APO AUSBILDUNG,BAWÜ,Pferdeführerschein,Westernreitabzeichen
ORGANIZER;CN="Lilian Lintzen":MAILTO:lilischnitzer@hotmail.com
END:VEVENT
END:VCALENDAR