BEGIN:VCALENDAR
VERSION:2.0
PRODID:-//Westernreiter - ECPv6.15.20//NONSGML v1.0//EN
CALSCALE:GREGORIAN
METHOD:PUBLISH
X-WR-CALNAME:Westernreiter
X-ORIGINAL-URL:https://ewu-bund.com
X-WR-CALDESC:Veranstaltungen für Westernreiter
REFRESH-INTERVAL;VALUE=DURATION:PT1H
X-Robots-Tag:noindex
X-PUBLISHED-TTL:PT1H
BEGIN:VTIMEZONE
TZID:Europe/Berlin
BEGIN:DAYLIGHT
TZOFFSETFROM:+0100
TZOFFSETTO:+0200
TZNAME:CEST
DTSTART:20250330T010000
END:DAYLIGHT
BEGIN:STANDARD
TZOFFSETFROM:+0200
TZOFFSETTO:+0100
TZNAME:CET
DTSTART:20251026T010000
END:STANDARD
BEGIN:DAYLIGHT
TZOFFSETFROM:+0100
TZOFFSETTO:+0200
TZNAME:CEST
DTSTART:20260329T010000
END:DAYLIGHT
BEGIN:STANDARD
TZOFFSETFROM:+0200
TZOFFSETTO:+0100
TZNAME:CET
DTSTART:20261025T010000
END:STANDARD
BEGIN:DAYLIGHT
TZOFFSETFROM:+0100
TZOFFSETTO:+0200
TZNAME:CEST
DTSTART:20270328T010000
END:DAYLIGHT
BEGIN:STANDARD
TZOFFSETFROM:+0200
TZOFFSETTO:+0100
TZNAME:CET
DTSTART:20271031T010000
END:STANDARD
END:VTIMEZONE
BEGIN:VEVENT
DTSTART;TZID=Europe/Berlin:20260509T080000
DTEND;TZID=Europe/Berlin:20260517T170000
DTSTAMP:20260422T040447
CREATED:20251015T064038Z
LAST-MODIFIED:20260420T053028Z
UID:10002200-1778313600-1779037200@ewu-bund.com
SUMMARY:Double Show Kreuth
DESCRIPTION:Ausschreibung: https://ocelot.ewu-bund.de:10101/gateway/documents/PublicTurnierDoc/5520/1 \nMeldestelle: Astrid Islinger \nZeitplan vorläufig: DS A+Q+C Kreuth – 12.-17.05.2026 – vorläufiger Zeitplan \n\n            \n                \n            \n            Auf Facebook teilen
URL:https://ewu-bund.com/termin/double-show-kreuth/
LOCATION:Gut Matheshof\, Kreuth 2\, Rieden\, 92286
CATEGORIES:BAY,TURNIER
END:VEVENT
BEGIN:VEVENT
DTSTART;VALUE=DATE:20260603
DTEND;VALUE=DATE:20260608
DTSTAMP:20260422T040447
CREATED:20251217T135706Z
LAST-MODIFIED:20260407T034301Z
UID:10002299-1780444800-1780876799@ewu-bund.com
SUMMARY:Landesmeisterschaft LV Bayern
DESCRIPTION:Ausschreibung: https://ocelot.ewu-bund.de:10101/gateway/documents/PublicTurnierDoc/5550/1 \nMeldestelle: Astrid Islinger\, +49 170 2313002\, meldestelle@ewu-bayern.de \n\n            \n                \n            \n            Auf Facebook teilen
URL:https://ewu-bund.com/termin/landesmeisterschaft-lv-bayern/
LOCATION:Gut Matheshof\, Kreuth 2\, Rieden\, 92286
CATEGORIES:BAY,TURNIER
END:VEVENT
END:VCALENDAR