BEGIN:VCALENDAR
VERSION:2.0
PRODID:-//Westernreiter - ECPv6.15.20//NONSGML v1.0//EN
CALSCALE:GREGORIAN
METHOD:PUBLISH
X-ORIGINAL-URL:https://ewu-bund.com
X-WR-CALDESC:Veranstaltungen für Westernreiter
REFRESH-INTERVAL;VALUE=DURATION:PT1H
X-Robots-Tag:noindex
X-PUBLISHED-TTL:PT1H
BEGIN:VTIMEZONE
TZID:Europe/Berlin
BEGIN:DAYLIGHT
TZOFFSETFROM:+0100
TZOFFSETTO:+0200
TZNAME:CEST
DTSTART:20250330T010000
END:DAYLIGHT
BEGIN:STANDARD
TZOFFSETFROM:+0200
TZOFFSETTO:+0100
TZNAME:CET
DTSTART:20251026T010000
END:STANDARD
BEGIN:DAYLIGHT
TZOFFSETFROM:+0100
TZOFFSETTO:+0200
TZNAME:CEST
DTSTART:20260329T010000
END:DAYLIGHT
BEGIN:STANDARD
TZOFFSETFROM:+0200
TZOFFSETTO:+0100
TZNAME:CET
DTSTART:20261025T010000
END:STANDARD
BEGIN:DAYLIGHT
TZOFFSETFROM:+0100
TZOFFSETTO:+0200
TZNAME:CEST
DTSTART:20270328T010000
END:DAYLIGHT
BEGIN:STANDARD
TZOFFSETFROM:+0200
TZOFFSETTO:+0100
TZNAME:CET
DTSTART:20271031T010000
END:STANDARD
END:VTIMEZONE
BEGIN:VEVENT
DTSTART;TZID=Europe/Berlin:20260522T080000
DTEND;TZID=Europe/Berlin:20260525T170000
DTSTAMP:20260422T015807
CREATED:20251015T070412Z
LAST-MODIFIED:20260402T051133Z
UID:10002202-1779436800-1779728400@ewu-bund.com
SUMMARY:A+Q+C Lamspringe
DESCRIPTION:Ausschreibung: https://ocelot.ewu-bund.de:10101/gateway/documents/PublicTurnierDoc/5548/1 \nMeldestelle: Anna Voß \n\n            \n                \n            \n            Auf Facebook teilen
URL:https://ewu-bund.com/termin/aqc-lamspringe/
LOCATION:Pferdesportzentrum Lampspringe\, Kleberkamp 2\, Lamspringe\, 31195
CATEGORIES:NS/H,TURNIER
ORGANIZER;CN="Reitsportverein Lammetal":MAILTO:c.reulecke@lammetal.net
END:VEVENT
END:VCALENDAR