BEGIN:VCALENDAR
VERSION:2.0
PRODID:-//Westernreiter - ECPv6.15.20//NONSGML v1.0//EN
CALSCALE:GREGORIAN
METHOD:PUBLISH
X-ORIGINAL-URL:https://ewu-bund.com
X-WR-CALDESC:Veranstaltungen für Westernreiter
REFRESH-INTERVAL;VALUE=DURATION:PT1H
X-Robots-Tag:noindex
X-PUBLISHED-TTL:PT1H
BEGIN:VTIMEZONE
TZID:Europe/Berlin
BEGIN:DAYLIGHT
TZOFFSETFROM:+0100
TZOFFSETTO:+0200
TZNAME:CEST
DTSTART:20250330T010000
END:DAYLIGHT
BEGIN:STANDARD
TZOFFSETFROM:+0200
TZOFFSETTO:+0100
TZNAME:CET
DTSTART:20251026T010000
END:STANDARD
BEGIN:DAYLIGHT
TZOFFSETFROM:+0100
TZOFFSETTO:+0200
TZNAME:CEST
DTSTART:20260329T010000
END:DAYLIGHT
BEGIN:STANDARD
TZOFFSETFROM:+0200
TZOFFSETTO:+0100
TZNAME:CET
DTSTART:20261025T010000
END:STANDARD
BEGIN:DAYLIGHT
TZOFFSETFROM:+0100
TZOFFSETTO:+0200
TZNAME:CEST
DTSTART:20270328T010000
END:DAYLIGHT
BEGIN:STANDARD
TZOFFSETFROM:+0200
TZOFFSETTO:+0100
TZNAME:CET
DTSTART:20271031T010000
END:STANDARD
END:VTIMEZONE
BEGIN:VEVENT
DTSTART;VALUE=DATE:20260724
DTEND;VALUE=DATE:20260727
DTSTAMP:20260422T053717
CREATED:20251223T120538Z
LAST-MODIFIED:20251223T120538Z
UID:10002317-1784851200-1785110399@ewu-bund.com
SUMMARY:Landesmeisterschaft Sachsen/Thüringen
DESCRIPTION:Nennung: \nMeldestelle: Claus Georgi\, Mobil: 0152 33782778\, Email: westernreitstall.georgi@gmail.com \n\n            \n                \n            \n            Auf Facebook teilen
URL:https://ewu-bund.com/termin/landesmeisterschaft-sachsen-thueringen/
LOCATION:Westernstable Georgi\, Bergstraße 12\, Cunersdorf\, 08107
CATEGORIES:SACHS,THÜR,TURNIER
ORGANIZER;CN="Reitverein Cunersdorf":MAILTO:turnierecunersdorf@gmail.com
END:VEVENT
END:VCALENDAR